BEGIN:VCALENDAR
VERSION:2.0
PRODID:KKTIX
CALSCALE:GREGORIAN
METHOD:PUBLISH
BEGIN:VTIMEZONE
TZID:Asia/Taipei
END:VTIMEZONE
BEGIN:VEVENT
DTSTAMP:20260420T132735Z
UID:68f6bcc7-c0e0-429e-bb66-02ec5213b8ca
DTSTART:20260607T103000Z
DTEND:20260607T103000Z
CLASS:PUBLIC
DESCRIPTION:https://jmgroup.kktix.cc/events/e4ef8afe
LOCATION: (新北市新莊區新北大道四段3號8樓（宏匯廣場內
 ）) Zepp New Taipei
SUMMARY:永豐銀行 Alexander Stewart Live in Taipei 2026
END:VEVENT
END:VCALENDAR
